Workbook

Sheet informace
A4: PŘIHLÁŠKA
B7: Informace o souboru:
B8: název:
B9: město:
B10: zřizovatel (včetně adresy):
B11: vedoucí souboru:
B12: telefon na vedoucí:
B13: e-mail na vedoucí:
B16: Vedoucí a trenéři:
B17: 1.
B18: 2.
B19: 3.
B20: 4.
... B39: oba soutěžní dny

Sheet přehled
B2: =informace!B2 -> 0
A4: PŘEHLED
B7: =informace!C8 -> 0
B9: celkem fyzických osob (soutěžících):
B11: formace: | C11: počet soutěžících: | D11: startovné:
B12: VF 1 | C12: ='VF 1'!D7 -> 0 | D12: =C12*150 -> 0
B13: VF 2 | C13: ='VF 2'!D7 -> 0 | D13: =C13*150 -> 0
B14: VF 3 | C14: ='VF 3'!D7 -> 0 | D14: =C14*150 -> 0
B15: VF 4 | C15: ='VF 4'!D7 -> 0 | D15: =C15*150 -> 0
B16: VF 5 | C16: ='VF 5'!D7 -> 0 | D16: =C16*150 -> 0
B17: Rodičovský tým | C17: =RT!D6 -> 0 | D17: =C17*150 -> 0
B18: MF 1 | C18: ='MF 1'!D7 -> 0 | D18: =C18*150 -> 0
B19: MF 2 | C19: ='MF 2'!D7 -> 0 | D19: =C19*150 -> 0
B20: MF 3 | C20: ='MF 3'!D7 -> 0 | D20: =C20*150 -> 0
B21: MF 4 | C21: ='MF 4'!D7 -> 0 | D21: =C21*150 -> 0
B22: MF 5 | C22: ='MF 5'!D7 -> 0 | D22: =C22*150 -> 0
B23: TRIO | C23: =TRIO!D5*3 -> 0 | D23: =C23*150 -> 0
B24: DUO | C24: =DUO!D5*2 -> 0 | D24: =C24*150 -> 0
B25: SOLO | C25: =SOLO!D5 -> 0 | D25: =C25*300 -> 0
B27: Celkem startovné: | C27: =SUM(D12:D17)+ SUM(D22:D25) -> 0

Sheet VF 1
B2: =informace!C8 -> 0
B4: Informace o soutěžní skladbě VF 1
B5: soutěžní kategorie:
B6: výkonnostní třída:
B7: počet soutěžících:
B8: trenér:
F10: 45838
C11: Příjmení: | D11: Jméno: | E11: Datum narození: | F11: věk k 30. 6. 2025:
B12: 1. | F12: =IF(E12="", "", DATEDIF(E12, $F$10, "Y"))
B13: 2. | F13: =IF(E13="", "", DATEDIF(E13, $F$10, "Y"))
B14: 3. | F14: =IF(E14="", "", DATEDIF(E14, $F$10, "Y"))
B15: 4. | F15: =IF(E15="", "", DATEDIF(E15, $F$10, "Y"))
B16: 5. | F16: =IF(E16="", "", DATEDIF(E16, $F$10, "Y"))
B17: 6. | F17: =IF(E17="", "", DATEDIF(E17, $F$10, "Y"))
B18: 7. | F18: =IF(E18="", "", DATEDIF(E18, $F$10, "Y"))
B19: 8. | F19: =IF(E19="", "", DATEDIF(E19, $F$10, "Y"))
B20: 9. | F20: =IF(E20="", "", DATEDIF(E20, $F$10, "Y"))
B21: 10. | F21: =IF(E21="", "", DATEDIF(E21, $F$10, "Y"))
B22: 11. | F22: =IF(E22="", "", DATEDIF(E22, $F$10, "Y"))
B23: 12. | F23: =IF(E23="", "", DATEDIF(E23, $F$10, "Y"))
... B36: 25. | F36: =IF(E36="", "", DATEDIF(E36, $F$10, "Y"))
B38: Věkový průměr: | D38: =AVERAGEIF(F12:F36, ">0") -> #DIV/0!
B39: Věková kategorie: | E39: věkové kategorie:
E40: BABYDĚTI do 5,99
E41: DĚTI od 5,99 do 7,99
E42: KADETKY od 8,00 do 11,99
C43: soutěžní kategorie: | D43: výkonností třidy: | E43: JUNIORKY od 12,00 do 14,99
C44: BATON | D44: PROFI | E44: SENIORKY nad 14,99
C45: POM | D45: HOBBY
C46: DANCE
C47: TRADIČNÍ MAŽ.

Sheet VF 2
B2: =informace!C8 -> 0
B4: Informace o soutěžní skladbě VF 2
B5: soutěžní kategorie:
B6: výkonnostní třída:
B7: počet soutěžících:
B8: trenér:
F10: 45838
C11: Příjmení: | D11: Jméno: | E11: Datum narození: | F11: věk k 30. 6. 2025:
B12: 1. | F12: =IF(E12="", "", DATEDIF(E12, $F$10, "Y"))
B13: 2. | F13: =IF(E13="", "", DATEDIF(E13, $F$10, "Y"))
B14: 3. | F14: =IF(E14="", "", DATEDIF(E14, $F$10, "Y"))
B15: 4. | F15: =IF(E15="", "", DATEDIF(E15, $F$10, "Y"))
B16: 5. | F16: =IF(E16="", "", DATEDIF(E16, $F$10, "Y"))
B17: 6. | F17: =IF(E17="", "", DATEDIF(E17, $F$10, "Y"))
B18: 7. | F18: =IF(E18="", "", DATEDIF(E18, $F$10, "Y"))
B19: 8. | F19: =IF(E19="", "", DATEDIF(E19, $F$10, "Y"))
B20: 9. | F20: =IF(E20="", "", DATEDIF(E20, $F$10, "Y"))
B21: 10. | F21: =IF(E21="", "", DATEDIF(E21, $F$10, "Y"))
B22: 11. | F22: =IF(E22="", "", DATEDIF(E22, $F$10, "Y"))
B23: 12. | F23: =IF(E23="", "", DATEDIF(E23, $F$10, "Y"))
... B36: 25. | F36: =IF(E36="", "", DATEDIF(E36, $F$10, "Y"))
B38: Věkový průměr: | D38: =AVERAGEIF(F12:F36, ">0") -> #DIV/0!
B39: Věková kategorie: | E39: věkové kategorie:
E40: BABYDĚTI do 5,99
E41: DĚTI od 5,99 do 7,99
E42: KADETKY od 8,00 do 11,99
C43: soutěžní kategorie: | D43: výkonností třidy: | E43: JUNIORKY od 12,00 do 14,99
C44: BATON | D44: PROFI | E44: SENIORKY nad 14,99
C45: POM | D45: HOBBY
C46: DANCE
C47: TRADIČNÍ MAŽ.

Sheet VF 3
B2: =informace!C8 -> 0
B4: Informace o soutěžní skladbě VF 3
B5: soutěžní kategorie:
B6: výkonnostní třída:
B7: počet soutěžících:
B8: trenér:
F10: 45838
C11: Příjmení: | D11: Jméno: | E11: Datum narození: | F11: věk k 30. 6. 2025:
B12: 1. | F12: =IF(E12="", "", DATEDIF(E12, $F$10, "Y"))
B13: 2. | F13: =IF(E13="", "", DATEDIF(E13, $F$10, "Y"))
B14: 3. | F14: =IF(E14="", "", DATEDIF(E14, $F$10, "Y"))
B15: 4. | F15: =IF(E15="", "", DATEDIF(E15, $F$10, "Y"))
B16: 5. | F16: =IF(E16="", "", DATEDIF(E16, $F$10, "Y"))
B17: 6. | F17: =IF(E17="", "", DATEDIF(E17, $F$10, "Y"))
B18: 7. | F18: =IF(E18="", "", DATEDIF(E18, $F$10, "Y"))
B19: 8. | F19: =IF(E19="", "", DATEDIF(E19, $F$10, "Y"))
B20: 9. | F20: =IF(E20="", "", DATEDIF(E20, $F$10, "Y"))
B21: 10. | F21: =IF(E21="", "", DATEDIF(E21, $F$10, "Y"))
B22: 11. | F22: =IF(E22="", "", DATEDIF(E22, $F$10, "Y"))
B23: 12. | F23: =IF(E23="", "", DATEDIF(E23, $F$10, "Y"))
... B36: 25. | F36: =IF(E36="", "", DATEDIF(E36, $F$10, "Y"))
B38: Věkový průměr: | D38: =AVERAGEIF(F12:F36, ">0") -> #DIV/0!
B39: Věková kategorie: | E39: věkové kategorie:
E40: BABYDĚTI do 5,99
E41: DĚTI od 5,99 do 7,99
E42: KADETKY od 8,00 do 11,99
C43: soutěžní kategorie: | D43: výkonností třidy: | E43: JUNIORKY od 12,00 do 14,99
C44: BATON | D44: PROFI | E44: SENIORKY nad 14,99
C45: POM | D45: HOBBY
C46: DANCE
C47: TRADIČNÍ MAŽ.

Sheet VF 4
B2: =informace!C8 -> 0
B4: Informace o soutěžní skladbě VF 3
B5: soutěžní kategorie:
B6: výkonnostní třída:
B7: počet soutěžících:
B8: trenér:
F10: 45838
C11: Příjmení: | D11: Jméno: | E11: Datum narození: | F11: věk k 30. 6. 2025:
B12: 1. | F12: =IF(E12="", "", DATEDIF(E12, $F$10, "Y"))
B13: 2. | F13: =IF(E13="", "", DATEDIF(E13, $F$10, "Y"))
B14: 3. | F14: =IF(E14="", "", DATEDIF(E14, $F$10, "Y"))
B15: 4. | F15: =IF(E15="", "", DATEDIF(E15, $F$10, "Y"))
B16: 5. | F16: =IF(E16="", "", DATEDIF(E16, $F$10, "Y"))
B17: 6. | F17: =IF(E17="", "", DATEDIF(E17, $F$10, "Y"))
B18: 7. | F18: =IF(E18="", "", DATEDIF(E18, $F$10, "Y"))
B19: 8. | F19: =IF(E19="", "", DATEDIF(E19, $F$10, "Y"))
B20: 9. | F20: =IF(E20="", "", DATEDIF(E20, $F$10, "Y"))
B21: 10. | F21: =IF(E21="", "", DATEDIF(E21, $F$10, "Y"))
B22: 11. | F22: =IF(E22="", "", DATEDIF(E22, $F$10, "Y"))
B23: 12. | F23: =IF(E23="", "", DATEDIF(E23, $F$10, "Y"))
... B36: 25. | F36: =IF(E36="", "", DATEDIF(E36, $F$10, "Y"))
B38: Věkový průměr: | D38: =AVERAGEIF(F12:F36, ">0") -> #DIV/0!
B39: Věková kategorie: | E39: věkové kategorie:
E40: BABYDĚTI do 5,99
E41: DĚTI od 5,99 do 7,99
E42: KADETKY od 8,00 do 11,99
C43: soutěžní kategorie: | D43: výkonností třidy: | E43: JUNIORKY od 12,00 do 14,99
C44: BATON | D44: PROFI | E44: SENIORKY nad 14,99
C45: POM | D45: HOBBY
C46: DANCE
C47: TRADIČNÍ MAŽ.

Sheet VF 5
B2: =informace!C8 -> 0
B4: Informace o soutěžní skladbě VF 5
B5: soutěžní kategorie:
B6: výkonnostní třída:
B7: počet soutěžících:
B8: trenér:
F10: 45838
C11: Příjmení: | D11: Jméno: | E11: Datum narození: | F11: věk k 30. 6. 2025:
B12: 1. | F12: =IF(E12="", "", DATEDIF(E12, $F$10, "Y"))
B13: 2. | F13: =IF(E13="", "", DATEDIF(E13, $F$10, "Y"))
B14: 3. | F14: =IF(E14="", "", DATEDIF(E14, $F$10, "Y"))
B15: 4. | F15: =IF(E15="", "", DATEDIF(E15, $F$10, "Y"))
B16: 5. | F16: =IF(E16="", "", DATEDIF(E16, $F$10, "Y"))
B17: 6. | F17: =IF(E17="", "", DATEDIF(E17, $F$10, "Y"))
B18: 7. | F18: =IF(E18="", "", DATEDIF(E18, $F$10, "Y"))
B19: 8. | F19: =IF(E19="", "", DATEDIF(E19, $F$10, "Y"))
B20: 9. | F20: =IF(E20="", "", DATEDIF(E20, $F$10, "Y"))
B21: 10. | F21: =IF(E21="", "", DATEDIF(E21, $F$10, "Y"))
B22: 11. | F22: =IF(E22="", "", DATEDIF(E22, $F$10, "Y"))
B23: 12. | F23: =IF(E23="", "", DATEDIF(E23, $F$10, "Y"))
... B36: 25. | F36: =IF(E36="", "", DATEDIF(E36, $F$10, "Y"))
B38: Věkový průměr: | D38: =AVERAGEIF(F12:F36, ">0") -> #DIV/0!
B39: Věková kategorie: | E39: věkové kategorie:
E40: BABYDĚTI do 5,99
E41: DĚTI od 5,99 do 7,99
E42: KADETKY od 8,00 do 11,99
C43: soutěžní kategorie: | D43: výkonností třidy: | E43: JUNIORKY od 12,00 do 14,99
C44: BATON | D44: PROFI | E44: SENIORKY nad 14,99
C45: POM | D45: HOBBY
C46: DANCE
C47: TRADIČNÍ MAŽ.

Sheet RT
B2: =informace!C8 -> 0
B4: Informace o soutěžní skladbě RT
B5: soutěžní kategorie:
B6: počet soutěžících:
B7: trenér:
F9: 45838
C10: Příjmení: | D10: Jméno: | E10: Datum narození: | F10: věk k 30. 6. 2025:
B11: 1. | F11: =IF(E11="", "", DATEDIF(E11, $F$9, "Y"))
B12: 2. | F12: =IF(E12="", "", DATEDIF(E12, $F$9, "Y"))
B13: 3. | F13: =IF(E13="", "", DATEDIF(E13, $F$9, "Y"))
B14: 4. | F14: =IF(E14="", "", DATEDIF(E14, $F$9, "Y"))
B15: 5. | F15: =IF(E15="", "", DATEDIF(E15, $F$9, "Y"))
B16: 6. | F16: =IF(E16="", "", DATEDIF(E16, $F$9, "Y"))
B17: 7. | F17: =IF(E17="", "", DATEDIF(E17, $F$9, "Y"))
B18: 8. | F18: =IF(E18="", "", DATEDIF(E18, $F$9, "Y"))
B19: 9. | F19: =IF(E19="", "", DATEDIF(E19, $F$9, "Y"))
B20: 10. | F20: =IF(E20="", "", DATEDIF(E20, $F$9, "Y"))
B21: 11. | F21: =IF(E21="", "", DATEDIF(E21, $F$9, "Y"))
B22: 12. | F22: =IF(E22="", "", DATEDIF(E22, $F$9, "Y"))
... B35: 25. | F35: =IF(E35="", "", DATEDIF(E35, $F$9, "Y"))
B37: Věkový průměr: | D37: =AVERAGEIF(F11:F35, ">0") -> #DIV/0!
B38: Věková kategorie: | D38: RODIČOVSKÝ TÝM nad 25,00 | E38: věkové kategorie:
C42: soutěžní kategorie:
C43: BATON
C44: POM

Sheet MF 1
B2: =informace!C8 -> 0
B4: Informace o soutěžní skladbě MF 1
B5: soutěžní kategorie:
B6: výkonnostní třída:
B7: počet soutěžících:
B8: trenér:
F10: 45838
C11: Příjmení: | D11: Jméno: | E11: Datum narození: | F11: věk k 30. 6. 2025:
B12: 1. | F12: =IF(E12="", "", DATEDIF(E12, $F$10, "Y"))
B13: 2. | F13: =IF(E13="", "", DATEDIF(E13, $F$10, "Y"))
B14: 3. | F14: =IF(E14="", "", DATEDIF(E14, $F$10, "Y"))
B15: 4. | F15: =IF(E15="", "", DATEDIF(E15, $F$10, "Y"))
B16: 5. | F16: =IF(E16="", "", DATEDIF(E16, $F$10, "Y"))
B17: 6. | F17: =IF(E17="", "", DATEDIF(E17, $F$10, "Y"))
B18: 7. | F18: =IF(E18="", "", DATEDIF(E18, $F$10, "Y"))
B20: Věkový průměr: | D20: =AVERAGEIF(F12:F18, ">0") -> #DIV/0!
B21: Věková kategorie: | E21: věkové kategorie:
E22: BABYDĚTI do 5,99
E23: DĚTI od 5,99 do 7,99
E24: KADETKY od 8,00 do 11,99
C25: soutěžní kategorie: | D25: výkonností třidy: | E25: JUNIORKY od 12,00 do 14,99
C26: BATON | D26: PROFI | E26: SENIORKY nad 14,99
C27: POM | D27: HOBBY | E27: RODIČOVSKÝ TÝM nad 25,00
C28: DANCE

Sheet MF 2
B2: =informace!C8 -> 0
B4: Informace o soutěžní skladbě MF 2
B5: soutěžní kategorie:
B6: výkonnostní třída:
B7: počet soutěžících:
B8: trenér:
F10: 45838
C11: Příjmení: | D11: Jméno: | E11: Datum narození: | F11: věk k 30. 6. 2025:
B12: 1. | F12: =IF(E12="", "", DATEDIF(E12, $F$10, "Y"))
B13: 2. | F13: =IF(E13="", "", DATEDIF(E13, $F$10, "Y"))
B14: 3. | F14: =IF(E14="", "", DATEDIF(E14, $F$10, "Y"))
B15: 4. | F15: =IF(E15="", "", DATEDIF(E15, $F$10, "Y"))
B16: 5. | F16: =IF(E16="", "", DATEDIF(E16, $F$10, "Y"))
B17: 6. | F17: =IF(E17="", "", DATEDIF(E17, $F$10, "Y"))
B18: 7. | F18: =IF(E18="", "", DATEDIF(E18, $F$10, "Y"))
B20: Věkový průměr: | D20: =AVERAGEIF(F12:F18, ">0") -> #DIV/0!
B21: Věková kategorie: | E21: věkové kategorie:
E22: BABYDĚTI do 5,99
E23: DĚTI od 5,99 do 7,99
E24: KADETKY od 8,00 do 11,99
C25: soutěžní kategorie: | D25: výkonností třidy: | E25: JUNIORKY od 12,00 do 14,99
C26: BATON | D26: PROFI | E26: SENIORKY nad 14,99
C27: POM | D27: HOBBY | E27: RODIČOVSKÝ TÝM nad 25,00
C28: DANCE

Sheet MF 3
B2: =informace!C8 -> 0
B4: Informace o soutěžní skladbě MF 3
B5: soutěžní kategorie:
B6: výkonnostní třída:
B7: počet soutěžících:
B8: trenér:
F10: 45838
C11: Příjmení: | D11: Jméno: | E11: Datum narození: | F11: věk k 30. 6. 2025:
B12: 1. | F12: =IF(E12="", "", DATEDIF(E12, $F$10, "Y"))
B13: 2. | F13: =IF(E13="", "", DATEDIF(E13, $F$10, "Y"))
B14: 3. | F14: =IF(E14="", "", DATEDIF(E14, $F$10, "Y"))
B15: 4. | F15: =IF(E15="", "", DATEDIF(E15, $F$10, "Y"))
B16: 5. | F16: =IF(E16="", "", DATEDIF(E16, $F$10, "Y"))
B17: 6. | F17: =IF(E17="", "", DATEDIF(E17, $F$10, "Y"))
B18: 7. | F18: =IF(E18="", "", DATEDIF(E18, $F$10, "Y"))
B20: Věkový průměr: | D20: =AVERAGEIF(F12:F18, ">0") -> #DIV/0!
B21: Věková kategorie: | E21: věkové kategorie:
E22: BABYDĚTI do 5,99
E23: DĚTI od 5,99 do 7,99
E24: KADETKY od 8,00 do 11,99
C25: soutěžní kategorie: | D25: výkonností třidy: | E25: JUNIORKY od 12,00 do 14,99
C26: BATON | D26: PROFI | E26: SENIORKY nad 14,99
C27: POM | D27: HOBBY | E27: RODIČOVSKÝ TÝM nad 25,00
C28: DANCE

Sheet MF 4
B2: =informace!C8 -> 0
B4: Informace o soutěžní skladbě MF 4
B5: soutěžní kategorie:
B6: výkonnostní třída:
B7: počet soutěžících:
B8: trenér:
F10: 45838
C11: Příjmení: | D11: Jméno: | E11: Datum narození: | F11: věk k 30. 6. 2025:
B12: 1. | F12: =IF(E12="", "", DATEDIF(E12, $F$10, "Y"))
B13: 2. | F13: =IF(E13="", "", DATEDIF(E13, $F$10, "Y"))
B14: 3. | F14: =IF(E14="", "", DATEDIF(E14, $F$10, "Y"))
B15: 4. | F15: =IF(E15="", "", DATEDIF(E15, $F$10, "Y"))
B16: 5. | F16: =IF(E16="", "", DATEDIF(E16, $F$10, "Y"))
B17: 6. | F17: =IF(E17="", "", DATEDIF(E17, $F$10, "Y"))
B18: 7. | F18: =IF(E18="", "", DATEDIF(E18, $F$10, "Y"))
B20: Věkový průměr: | D20: =AVERAGEIF(F12:F18, ">0") -> #DIV/0!
B21: Věková kategorie: | E21: věkové kategorie:
E22: BABYDĚTI do 5,99
E23: DĚTI od 5,99 do 7,99
E24: KADETKY od 8,00 do 11,99
C25: soutěžní kategorie: | D25: výkonností třidy: | E25: JUNIORKY od 12,00 do 14,99
C26: BATON | D26: PROFI | E26: SENIORKY nad 14,99
C27: POM | D27: HOBBY | E27: RODIČOVSKÝ TÝM nad 25,00
C28: DANCE

Sheet MF 5
B2: =informace!C8 -> 0
B4: Informace o soutěžní skladbě MF 5
B5: soutěžní kategorie:
B6: výkonnostní třída:
B7: počet soutěžících:
B8: trenér:
F10: 45838
C11: Příjmení: | D11: Jméno: | E11: Datum narození: | F11: věk k 30. 6. 2025:
B12: 1. | F12: =IF(E12="", "", DATEDIF(E12, $F$10, "Y"))
B13: 2. | F13: =IF(E13="", "", DATEDIF(E13, $F$10, "Y"))
B14: 3. | F14: =IF(E14="", "", DATEDIF(E14, $F$10, "Y"))
B15: 4. | F15: =IF(E15="", "", DATEDIF(E15, $F$10, "Y"))
B16: 5. | F16: =IF(E16="", "", DATEDIF(E16, $F$10, "Y"))
B17: 6. | F17: =IF(E17="", "", DATEDIF(E17, $F$10, "Y"))
B18: 7. | F18: =IF(E18="", "", DATEDIF(E18, $F$10, "Y"))
B20: Věkový průměr: | D20: =AVERAGEIF(F12:F18, ">0") -> #DIV/0!
B21: Věková kategorie: | E21: věkové kategorie:
E22: BABYDĚTI do 5,99
E23: DĚTI od 5,99 do 7,99
E24: KADETKY od 8,00 do 11,99
C25: soutěžní kategorie: | D25: výkonností třidy: | E25: JUNIORKY od 12,00 do 14,99
C26: BATON | D26: PROFI | E26: SENIORKY nad 14,99
C27: POM | D27: HOBBY | E27: RODIČOVSKÝ TÝM nad 25,00
C28: DANCE

Sheet TRIO
B2: =informace!C8 -> 0
B4: Informace o soutěžních skladbách TRIO
B5: počet formací:
F7: 45838
C8: Příjmení: | D8: Jméno: | E8: Datum narození: | F8: věk k 30. 6. 2025: | G8: Věkový průměr: | H8: Věková kategorie: | I8: Soutěžní kategorie: | J8: Výkonnostní třída: | K8: Trenér:
B9: 1. | F9: =IF(E9="", "", DATEDIF(E9, $F$7, "Y")) | G9: =AVERAGEIF(F9:F11, ">0") -> #DIV/0!
F10: =IF(E10="", "", DATEDIF(E10, $F$7, "Y"))
F11: =IF(E11="", "", DATEDIF(E11, $F$7, "Y"))
B12: 2. | F12: =IF(E12="", "", DATEDIF(E12, $F$7, "Y")) | G12: =AVERAGEIF(F12:F14, ">0") -> #DIV/0!
F13: =IF(E13="", "", DATEDIF(E13, $F$7, "Y"))
F14: =IF(E14="", "", DATEDIF(E14, $F$7, "Y"))
B15: 3. | F15: =IF(E15="", "", DATEDIF(E15, $F$7, "Y")) | G15: =AVERAGEIF(F15:F17, ">0") -> #DIV/0!
F16: =IF(E16="", "", DATEDIF(E16, $F$7, "Y"))
F17: =IF(E17="", "", DATEDIF(E17, $F$7, "Y"))
B18: 4. | F18: =IF(E18="", "", DATEDIF(E18, $F$7, "Y")) | G18: =AVERAGEIF(F18:F20, ">0") -> #DIV/0!
F19: =IF(E19="", "", DATEDIF(E19, $F$7, "Y"))
F20: =IF(E20="", "", DATEDIF(E20, $F$7, "Y"))
B21: 5. | F21: =IF(E21="", "", DATEDIF(E21, $F$7, "Y")) | G21: =AVERAGEIF(F21:F23, ">0") -> #DIV/0!
F22: =IF(E22="", "", DATEDIF(E22, $F$7, "Y"))
F23: =IF(E23="", "", DATEDIF(E23, $F$7, "Y"))
B24: 6. | F24: =IF(E24="", "", DATEDIF(E24, $F$7, "Y")) | G24: =AVERAGEIF(F24:F26, ">0") -> #DIV/0!
F25: =IF(E25="", "", DATEDIF(E25, $F$7, "Y"))
F26: =IF(E26="", "", DATEDIF(E26, $F$7, "Y"))
B27: 7. | F27: =IF(E27="", "", DATEDIF(E27, $F$7, "Y")) | G27: =AVERAGEIF(F27:F29, ">0") -> #DIV/0!
F28: =IF(E28="", "", DATEDIF(E28, $F$7, "Y"))
F29: =IF(E29="", "", DATEDIF(E29, $F$7, "Y"))
B30: 8. | F30: =IF(E30="", "", DATEDIF(E30, $F$7, "Y")) | G30: =AVERAGEIF(F30:F32, ">0") -> #DIV/0!
F31: =IF(E31="", "", DATEDIF(E31, $F$7, "Y"))
F32: =IF(E32="", "", DATEDIF(E32, $F$7, "Y"))
B33: 9. | F33: =IF(E33="", "", DATEDIF(E33, $F$7, "Y")) | G33: =AVERAGEIF(F33:F35, ">0") -> #DIV/0!
F34: =IF(E34="", "", DATEDIF(E34, $F$7, "Y"))
F35: =IF(E35="", "", DATEDIF(E35, $F$7, "Y"))
B36: 10. | F36: =IF(E36="", "", DATEDIF(E36, $F$7, "Y")) | G36: =AVERAGEIF(F36:F38, ">0") -> #DIV/0!
F37: =IF(E37="", "", DATEDIF(E37, $F$7, "Y"))
F38: =IF(E38="", "", DATEDIF(E38, $F$7, "Y"))
B39: 11. | F39: =IF(E39="", "", DATEDIF(E39, $F$7, "Y")) | G39: =AVERAGEIF(F39:F41, ">0") -> #DIV/0!
F40: =IF(E40="", "", DATEDIF(E40, $F$7, "Y"))
F41: =IF(E41="", "", DATEDIF(E41, $F$7, "Y"))
B42: 12. | F42: =IF(E42="", "", DATEDIF(E42, $F$7, "Y")) | G42: =AVERAGEIF(F42:F44, ">0") -> #DIV/0!
F43: =IF(E43="", "", DATEDIF(E43, $F$7, "Y"))
F44: =IF(E44="", "", DATEDIF(E44, $F$7, "Y"))
B45: 13. | F45: =IF(E45="", "", DATEDIF(E45, $F$7, "Y")) | G45: =AVERAGEIF(F45:F47, ">0") -> #DIV/0!
F46: =IF(E46="", "", DATEDIF(E46, $F$7, "Y"))
F47: =IF(E47="", "", DATEDIF(E47, $F$7, "Y"))
B48: 14. | F48: =IF(E48="", "", DATEDIF(E48, $F$7, "Y")) | G48: =AVERAGEIF(F48:F50, ">0") -> #DIV/0!
F49: =IF(E49="", "", DATEDIF(E49, $F$7, "Y"))
F50: =IF(E50="", "", DATEDIF(E50, $F$7, "Y"))
B51: 15. | F51: =IF(E51="", "", DATEDIF(E51, $F$7, "Y")) | G51: =AVERAGEIF(F51:F53, ">0") -> #DIV/0!
F52: =IF(E52="", "", DATEDIF(E52, $F$7, "Y"))
F53: =IF(E53="", "", DATEDIF(E53, $F$7, "Y"))
E55: BABYDĚTI do 5,99
E56: DĚTI od 5,99 do 7,99
E57: KADETKY od 8,00 do 11,99
C58: soutěžní kategorie: | D58: výkonností třidy: | E58: JUNIORKY od 12,00 do 14,99
C59: BATON | D59: PROFI | E59: SENIORKY nad 14,99
C60: POM | D60: HOBBY | E60: RODIČOVSKÝ TÝM nad 25,00
C61: DANCE

Sheet DUO
B2: =informace!C8 -> 0
B4: Informace o soutěžních skladbách DUO
B5: počet formací:
F7: 45838
C8: Příjmení: | D8: Jméno: | E8: Datum narození: | F8: věk k 30. 6. 2025: | G8: Věkový průměr: | H8: Věková kategorie: | I8: Soutěžní kategorie: | J8: Výkonnostní třída: | K8: Trenér:
B9: 1. | F9: =IF(E9="", "", DATEDIF(E9, $F$7, "Y")) | G9: =AVERAGEIF(F9:F10, ">0") -> #DIV/0!
F10: =IF(E10="", "", DATEDIF(E10, $F$7, "Y"))
B11: 2. | F11: =IF(E11="", "", DATEDIF(E11, $F$7, "Y")) | G11: =AVERAGEIF(F11:F12, ">0") -> #DIV/0!
F12: =IF(E12="", "", DATEDIF(E12, $F$7, "Y"))
B13: 3. | F13: =IF(E13="", "", DATEDIF(E13, $F$7, "Y")) | G13: =AVERAGEIF(F13:F14, ">0") -> #DIV/0!
F14: =IF(E14="", "", DATEDIF(E14, $F$7, "Y"))
B15: 4. | F15: =IF(E15="", "", DATEDIF(E15, $F$7, "Y")) | G15: =AVERAGEIF(F15:F16, ">0") -> #DIV/0!
F16: =IF(E16="", "", DATEDIF(E16, $F$7, "Y"))
B17: 5. | F17: =IF(E17="", "", DATEDIF(E17, $F$7, "Y")) | G17: =AVERAGEIF(F17:F18, ">0") -> #DIV/0!
F18: =IF(E18="", "", DATEDIF(E18, $F$7, "Y"))
B19: 6. | F19: =IF(E19="", "", DATEDIF(E19, $F$7, "Y")) | G19: =AVERAGEIF(F19:F20, ">0") -> #DIV/0!
F20: =IF(E20="", "", DATEDIF(E20, $F$7, "Y"))
B21: 7. | F21: =IF(E21="", "", DATEDIF(E21, $F$7, "Y")) | G21: =AVERAGEIF(F21:F22, ">0") -> #DIV/0!
F22: =IF(E22="", "", DATEDIF(E22, $F$7, "Y"))
B23: 8. | F23: =IF(E23="", "", DATEDIF(E23, $F$7, "Y")) | G23: =AVERAGEIF(F23:F24, ">0") -> #DIV/0!
F24: =IF(E24="", "", DATEDIF(E24, $F$7, "Y"))
B25: 9. | F25: =IF(E25="", "", DATEDIF(E25, $F$7, "Y")) | G25: =AVERAGEIF(F25:F26, ">0") -> #DIV/0!
F26: =IF(E26="", "", DATEDIF(E26, $F$7, "Y"))
B27: 10. | F27: =IF(E27="", "", DATEDIF(E27, $F$7, "Y")) | G27: =AVERAGEIF(F27:F28, ">0") -> #DIV/0!
F28: =IF(E28="", "", DATEDIF(E28, $F$7, "Y"))
B29: 11. | F29: =IF(E29="", "", DATEDIF(E29, $F$7, "Y")) | G29: =AVERAGEIF(F29:F30, ">0") -> #DIV/0!
F30: =IF(E30="", "", DATEDIF(E30, $F$7, "Y"))
B31: 12. | F31: =IF(E31="", "", DATEDIF(E31, $F$7, "Y")) | G31: =AVERAGEIF(F31:F32, ">0") -> #DIV/0!
F32: =IF(E32="", "", DATEDIF(E32, $F$7, "Y"))
B33: 13. | F33: =IF(E33="", "", DATEDIF(E33, $F$7, "Y")) | G33: =AVERAGEIF(F33:F34, ">0") -> #DIV/0!
F34: =IF(E34="", "", DATEDIF(E34, $F$7, "Y"))
B35: 14. | F35: =IF(E35="", "", DATEDIF(E35, $F$7, "Y")) | G35: =AVERAGEIF(F35:F36, ">0") -> #DIV/0!
F36: =IF(E36="", "", DATEDIF(E36, $F$7, "Y"))
B37: 15. | F37: =IF(E37="", "", DATEDIF(E37, $F$7, "Y")) | G37: =AVERAGEIF(F37:F38, ">0") -> #DIV/0!
F38: =IF(E38="", "", DATEDIF(E38, $F$7, "Y"))
E40: BABYDĚTI do 5,99
E41: DĚTI od 5,99 do 7,99
E42: KADETKY od 8,00 do 11,99
C43: soutěžní kategorie: | D43: výkonností třidy: | E43: JUNIORKY od 12,00 do 14,99
C44: BATON | D44: PROFI | E44: SENIORKY nad 14,99
C45: POM | D45: HOBBY | E45: RODIČOVSKÝ TÝM nad 25,00
C46: DANCE

Sheet SOLO
B2: =informace!C8 -> 0
B4: Informace o soutěžních skladbách SOLO
B5: počet formací:
F7: 45838
C8: Příjmení: | D8: Jméno: | E8: Datum narození: | F8: věk k 30. 6. 2025: | G8: Věková kategorie: | H8: Soutěžní kategorie: | I8: Výkonnostní třída: | J8: Trenér:
B9: 1. | F9: =IF(E9="", "", DATEDIF(E9, $F$7, "Y"))
B10: 2. | F10: =IF(E10="", "", DATEDIF(E10, $F$7, "Y"))
B11: 3. | F11: =IF(E11="", "", DATEDIF(E11, $F$7, "Y"))
B12: 4. | F12: =IF(E12="", "", DATEDIF(E12, $F$7, "Y"))
B13: 5. | F13: =IF(E13="", "", DATEDIF(E13, $F$7, "Y"))
B14: 6. | F14: =IF(E14="", "", DATEDIF(E14, $F$7, "Y"))
B15: 7. | F15: =IF(E15="", "", DATEDIF(E15, $F$7, "Y"))
B16: 8. | F16: =IF(E16="", "", DATEDIF(E16, $F$7, "Y"))
B17: 9. | F17: =IF(E17="", "", DATEDIF(E17, $F$7, "Y"))
B18: 10. | F18: =IF(E18="", "", DATEDIF(E18, $F$7, "Y"))
B19: 11. | F19: =IF(E19="", "", DATEDIF(E19, $F$7, "Y"))
B20: 12. | F20: =IF(E20="", "", DATEDIF(E20, $F$7, "Y"))
... B23: 15. | F23: =IF(E23="", "", DATEDIF(E23, $F$7, "Y"))
E25: BABYDĚTI do 5,99
E26: DĚTI od 5,99 do 7,99
E27: KADETKY od 8,00 do 11,99
C28: soutěžní kategorie: | D28: výkonností třidy: | E28: JUNIORKY od 12,00 do 14,99
C29: BATON | D29: PROFI | E29: SENIORKY nad 14,99
C30: POM | D30: HOBBY | E30: RODIČOVSKÝ TÝM nad 25,00
C31: 2BATON
